BEGIN:VCALENDAR
VERSION:2.0
PRODID:-//Department Of Education//08d420d0-c4ca-43c7-b21c-6d4fab3937c8
BEGIN:VTIMEZONE
TZID:Australia/Sydney
TZURL:http://tzurl.org/zoneinfo-outlook/Australia/Sydney
X-LIC-LOCATION:Australia/Sydney
BEGIN:STANDARD
TZOFFSETFROM:+1100
TZOFFSETTO:+1000
TZNAME:AEST
DTSTART:19700405T030000
RRULE:FREQ=YEARLY;BYMONTH=4;BYDAY=1SU
END:STANDARD
BEGIN:DAYLIGHT
TZOFFSETFROM:+1000
TZOFFSETTO:+1100
TZNAME:AEDT
DTSTART:19701004T020000
RRULE:FREQ=YEARLY;BYMONTH=10;BYDAY=1SU
END:DAYLIGHT
END:VTIMEZONE
CALSCALE:GREGORIAN
X-WR-TIMEZONE:Australia/Sydney
BEGIN:VEVENT
DTSTART;VALUE=DATE:20181018
DTEND;VALUE=DATE:20181208
DTSTAMP:20181018T000000Z
UID:35a05965-bbf2-4d0f-8bfc-8ad0656ec669
LOCATION:School hall
SUMMARY;LANGUAGE=en-us:Gymnastic Program
SEQUENCE:0
DESCRIPTION:Year 3 - 6 Gymnastic Program held on Thursdays or Fridays. Students to wear sport uniform. 
END:VEVENT
TRANSP:TRANSPARENT
END:VCALENDAR
