BEGIN:VCALENDAR
VERSION:2.0
PRODID:-//Department Of Education//699b639b-6816-4668-9ef8-35ced595fd85
BEGIN:VTIMEZONE
TZID:Australia/Sydney
TZURL:http://tzurl.org/zoneinfo-outlook/Australia/Sydney
X-LIC-LOCATION:Australia/Sydney
BEGIN:STANDARD
TZOFFSETFROM:+1100
TZOFFSETTO:+1000
TZNAME:AEST
DTSTART:19700405T030000
RRULE:FREQ=YEARLY;BYMONTH=4;BYDAY=1SU
END:STANDARD
BEGIN:DAYLIGHT
TZOFFSETFROM:+1000
TZOFFSETTO:+1100
TZNAME:AEDT
DTSTART:19701004T020000
RRULE:FREQ=YEARLY;BYMONTH=10;BYDAY=1SU
END:DAYLIGHT
END:VTIMEZONE
CALSCALE:GREGORIAN
X-WR-TIMEZONE:Australia/Sydney
BEGIN:VEVENT
DTSTART;TZID=Australia/Sydney:20180922T183000
DTEND;TZID=Australia/Sydney:20180922T213000
DTSTAMP:20180922T183000Z
UID:314d674b-2323-4b7a-b5c7-3fee0f8d7410
LOCATION:
SUMMARY;LANGUAGE=en-us:IRPS Singo Bingo
SEQUENCE:0
DESCRIPTION:P&C adults-only fundraising event.
END:VEVENT
TRANSP:TRANSPARENT
END:VCALENDAR
