BEGIN:VCALENDAR
VERSION:2.0
PRODID:-//Department Of Education//6544fbee-bff8-4b93-89f1-0776fe440fce
BEGIN:VTIMEZONE
TZID:Australia/Sydney
TZURL:http://tzurl.org/zoneinfo-outlook/Australia/Sydney
X-LIC-LOCATION:Australia/Sydney
BEGIN:STANDARD
TZOFFSETFROM:+1100
TZOFFSETTO:+1000
TZNAME:AEST
DTSTART:19700405T030000
RRULE:FREQ=YEARLY;BYMONTH=4;BYDAY=1SU
END:STANDARD
BEGIN:DAYLIGHT
TZOFFSETFROM:+1000
TZOFFSETTO:+1100
TZNAME:AEDT
DTSTART:19701004T020000
RRULE:FREQ=YEARLY;BYMONTH=10;BYDAY=1SU
END:DAYLIGHT
END:VTIMEZONE
CALSCALE:GREGORIAN
X-WR-TIMEZONE:Australia/Sydney
BEGIN:VEVENT
DTSTART;TZID=Australia/Sydney:20180927T093000
DTEND;TZID=Australia/Sydney:20180927T141500
DTSTAMP:20180927T000000Z
UID:34c9168f-2619-4bd0-8282-8d3ed63829c2
LOCATION:Shoalhaven Zoo
SUMMARY;LANGUAGE=en-us:Kindergarten Excursion
SEQUENCE:0
DESCRIPTION:Teddy Bears picnic and Shoalhaven Zoo excursion for Kindergarten
END:VEVENT
TRANSP:TRANSPARENT
END:VCALENDAR
