BEGIN:VCALENDAR
VERSION:2.0
PRODID:-//Department Of Education//58e69bb7-944e-4b32-bd83-ad403569cb29
BEGIN:VTIMEZONE
TZID:Australia/Sydney
TZURL:http://tzurl.org/zoneinfo-outlook/Australia/Sydney
X-LIC-LOCATION:Australia/Sydney
BEGIN:STANDARD
TZOFFSETFROM:+1100
TZOFFSETTO:+1000
TZNAME:AEST
DTSTART:19700405T030000
RRULE:FREQ=YEARLY;BYMONTH=4;BYDAY=1SU
END:STANDARD
BEGIN:DAYLIGHT
TZOFFSETFROM:+1000
TZOFFSETTO:+1100
TZNAME:AEDT
DTSTART:19701004T020000
RRULE:FREQ=YEARLY;BYMONTH=10;BYDAY=1SU
END:DAYLIGHT
END:VTIMEZONE
CALSCALE:GREGORIAN
X-WR-TIMEZONE:Australia/Sydney
BEGIN:VEVENT
DTSTART;TZID=Australia/Sydney:20180905T190000
DTEND;TZID=Australia/Sydney:20180905T213000
DTSTAMP:20180905T190000Z
UID:e5fa7fcd-fe66-4ecb-936f-0c589763f325
LOCATION:
SUMMARY;LANGUAGE=en-us:Music Festival
SEQUENCE:0
DESCRIPTION:Shoalhaven Public Schools Music Festival. Held at Bomaderry High School. Tickets available for the school office.
END:VEVENT
TRANSP:TRANSPARENT
END:VCALENDAR
