BEGIN:VCALENDAR
VERSION:2.0
PRODID:-//Department Of Education//b7600549-27c0-4852-8809-4fc9f2029680
BEGIN:VTIMEZONE
TZID:Australia/Sydney
TZURL:http://tzurl.org/zoneinfo-outlook/Australia/Sydney
X-LIC-LOCATION:Australia/Sydney
BEGIN:STANDARD
TZOFFSETFROM:+1100
TZOFFSETTO:+1000
TZNAME:AEST
DTSTART:19700405T030000
RRULE:FREQ=YEARLY;BYMONTH=4;BYDAY=1SU
END:STANDARD
BEGIN:DAYLIGHT
TZOFFSETFROM:+1000
TZOFFSETTO:+1100
TZNAME:AEDT
DTSTART:19701004T020000
RRULE:FREQ=YEARLY;BYMONTH=10;BYDAY=1SU
END:DAYLIGHT
END:VTIMEZONE
CALSCALE:GREGORIAN
X-WR-TIMEZONE:Australia/Sydney
BEGIN:VEVENT
DTSTART;TZID=Australia/Sydney:20180911T190000
DTEND;TZID=Australia/Sydney:20180911T203000
DTSTAMP:20180911T190000Z
UID:01d62805-ce9d-43a5-aca8-5a56e52c5ae9
LOCATION:
SUMMARY;LANGUAGE=en-us:P&C Association meeting
SEQUENCE:0
DESCRIPTION:Held in the school staffroom. All welcome
END:VEVENT
TRANSP:TRANSPARENT
END:VCALENDAR
