BEGIN:VCALENDAR
VERSION:2.0
PRODID:-//Department Of Education//9bffa6d8-440d-47e7-a8a1-468bf67ec318
BEGIN:VTIMEZONE
TZID:Australia/Sydney
TZURL:http://tzurl.org/zoneinfo-outlook/Australia/Sydney
X-LIC-LOCATION:Australia/Sydney
BEGIN:STANDARD
TZOFFSETFROM:+1100
TZOFFSETTO:+1000
TZNAME:AEST
DTSTART:19700405T030000
RRULE:FREQ=YEARLY;BYMONTH=4;BYDAY=1SU
END:STANDARD
BEGIN:DAYLIGHT
TZOFFSETFROM:+1000
TZOFFSETTO:+1100
TZNAME:AEDT
DTSTART:19701004T020000
RRULE:FREQ=YEARLY;BYMONTH=10;BYDAY=1SU
END:DAYLIGHT
END:VTIMEZONE
CALSCALE:GREGORIAN
X-WR-TIMEZONE:Australia/Sydney
BEGIN:VEVENT
DTSTART;TZID=Australia/Sydney:20180925T080000
DTEND;TZID=Australia/Sydney:20180925T143000
DTSTAMP:20180925T000000Z
UID:2ed702fe-ee45-4b10-b0f8-508657e048b2
LOCATION:University of Wollongong Science Centre
SUMMARY;LANGUAGE=en-us:Stage 2 Excursion
SEQUENCE:0
DESCRIPTION:Stage 2 excursion to Science Space in North Wollongong, then lunch in Stuart Park if weather permits.
END:VEVENT
TRANSP:TRANSPARENT
END:VCALENDAR
