BEGIN:VCALENDAR
VERSION:2.0
PRODID:-//Department Of Education//10a16c7d-52a5-4e3a-ae29-f763c1d46ab8
BEGIN:VTIMEZONE
TZID:Australia/Sydney
TZURL:http://tzurl.org/zoneinfo-outlook/Australia/Sydney
X-LIC-LOCATION:Australia/Sydney
BEGIN:STANDARD
TZOFFSETFROM:+1100
TZOFFSETTO:+1000
TZNAME:AEST
DTSTART:19700405T030000
RRULE:FREQ=YEARLY;BYMONTH=4;BYDAY=1SU
END:STANDARD
BEGIN:DAYLIGHT
TZOFFSETFROM:+1000
TZOFFSETTO:+1100
TZNAME:AEDT
DTSTART:19701004T020000
RRULE:FREQ=YEARLY;BYMONTH=10;BYDAY=1SU
END:DAYLIGHT
END:VTIMEZONE
CALSCALE:GREGORIAN
X-WR-TIMEZONE:Australia/Sydney
BEGIN:VEVENT
DTSTART;TZID=Australia/Sydney:20191114T140003
DTEND;TZID=Australia/Sydney:20191114T144500
DTSTAMP:20191114T000000Z
UID:ec999b34-eafe-49a1-a373-22484deb52a0
LOCATION:School Library
SUMMARY;LANGUAGE=en-us:2020 Kindergarten Story Time
SEQUENCE:0
DESCRIPTION:2020 Kindergarten Story Time
END:VEVENT
TRANSP:TRANSPARENT
END:VCALENDAR
