BEGIN:VCALENDAR
VERSION:2.0
PRODID:-//Department Of Education//74e96f3d-41d2-4b8c-bfca-384d0b8d3fc8
BEGIN:VTIMEZONE
TZID:Australia/Sydney
TZURL:http://tzurl.org/zoneinfo-outlook/Australia/Sydney
X-LIC-LOCATION:Australia/Sydney
BEGIN:STANDARD
TZOFFSETFROM:+1100
TZOFFSETTO:+1000
TZNAME:AEST
DTSTART:19700405T030000
RRULE:FREQ=YEARLY;BYMONTH=4;BYDAY=1SU
END:STANDARD
BEGIN:DAYLIGHT
TZOFFSETFROM:+1000
TZOFFSETTO:+1100
TZNAME:AEDT
DTSTART:19701004T020000
RRULE:FREQ=YEARLY;BYMONTH=10;BYDAY=1SU
END:DAYLIGHT
END:VTIMEZONE
CALSCALE:GREGORIAN
X-WR-TIMEZONE:Australia/Sydney
BEGIN:VEVENT
DTSTART;TZID=Australia/Sydney:20191125T093025
DTEND;TZID=Australia/Sydney:20191125T143037
DTSTAMP:20191125T000000Z
UID:60ce16ae-2347-44fd-95d5-7ef580173367
LOCATION:School hall
SUMMARY;LANGUAGE=en-us:2020 Year 5 OC Orientation Day
SEQUENCE:0
DESCRIPTION:2020 Year 5 OC Orientation Day
END:VEVENT
TRANSP:TRANSPARENT
END:VCALENDAR
