BEGIN:VCALENDAR
VERSION:2.0
PRODID:-//Department Of Education//219ccad8-bcd7-4be4-a258-dacaca479b9f
BEGIN:VTIMEZONE
TZID:Australia/Sydney
TZURL:http://tzurl.org/zoneinfo-outlook/Australia/Sydney
X-LIC-LOCATION:Australia/Sydney
BEGIN:STANDARD
TZOFFSETFROM:+1100
TZOFFSETTO:+1000
TZNAME:AEST
DTSTART:19700405T030000
RRULE:FREQ=YEARLY;BYMONTH=4;BYDAY=1SU
END:STANDARD
BEGIN:DAYLIGHT
TZOFFSETFROM:+1000
TZOFFSETTO:+1100
TZNAME:AEDT
DTSTART:19701004T020000
RRULE:FREQ=YEARLY;BYMONTH=10;BYDAY=1SU
END:DAYLIGHT
END:VTIMEZONE
CALSCALE:GREGORIAN
X-WR-TIMEZONE:Australia/Sydney
BEGIN:VEVENT
DTSTART;TZID=Australia/Sydney:20191202T090048
DTEND;TZID=Australia/Sydney:20191213T150008
DTSTAMP:20191202T000000Z
UID:f5da3044-3468-4f74-a2f4-3e4519a9a3ea
LOCATION:Bomaderry Swimming Complex
SUMMARY;LANGUAGE=en-us:Swimming and Lifesaving Scheme
SEQUENCE:0
DESCRIPTION:Year 2 to Year 6 Swimming and Lifesaving Program
END:VEVENT
TRANSP:TRANSPARENT
END:VCALENDAR
