BEGIN:VCALENDAR
VERSION:2.0
PRODID:-//Department Of Education//3ee10067-7a44-413c-bf46-0a9618c1708f
BEGIN:VTIMEZONE
TZID:Australia/Sydney
TZURL:http://tzurl.org/zoneinfo-outlook/Australia/Sydney
X-LIC-LOCATION:Australia/Sydney
BEGIN:STANDARD
TZOFFSETFROM:+1100
TZOFFSETTO:+1000
TZNAME:AEST
DTSTART:19700405T030000
RRULE:FREQ=YEARLY;BYMONTH=4;BYDAY=1SU
END:STANDARD
BEGIN:DAYLIGHT
TZOFFSETFROM:+1000
TZOFFSETTO:+1100
TZNAME:AEDT
DTSTART:19701004T020000
RRULE:FREQ=YEARLY;BYMONTH=10;BYDAY=1SU
END:DAYLIGHT
END:VTIMEZONE
CALSCALE:GREGORIAN
X-WR-TIMEZONE:Australia/Sydney
BEGIN:VEVENT
DTSTART;VALUE=DATE:20190321
DTEND;VALUE=DATE:20190322
DTSTAMP:20190321T000000Z
UID:ace57d26-d84d-4ef5-9882-44fb4caa01b7
LOCATION:IRPS
SUMMARY;LANGUAGE=en-us:Harmony Day
SEQUENCE:0
DESCRIPTION:Students are encouraged to wear costumes associated with their family cultural traditions, or orange or yellow clothing. 
END:VEVENT
TRANSP:TRANSPARENT
END:VCALENDAR
