BEGIN:VCALENDAR
VERSION:2.0
PRODID:-//Department Of Education//c77bf0a1-c08f-4cdc-a328-322ea60c4081
BEGIN:VTIMEZONE
TZID:Australia/Sydney
TZURL:http://tzurl.org/zoneinfo-outlook/Australia/Sydney
X-LIC-LOCATION:Australia/Sydney
BEGIN:STANDARD
TZOFFSETFROM:+1100
TZOFFSETTO:+1000
TZNAME:AEST
DTSTART:19700405T030000
RRULE:FREQ=YEARLY;BYMONTH=4;BYDAY=1SU
END:STANDARD
BEGIN:DAYLIGHT
TZOFFSETFROM:+1000
TZOFFSETTO:+1100
TZNAME:AEDT
DTSTART:19701004T020000
RRULE:FREQ=YEARLY;BYMONTH=10;BYDAY=1SU
END:DAYLIGHT
END:VTIMEZONE
CALSCALE:GREGORIAN
X-WR-TIMEZONE:Australia/Sydney
BEGIN:VEVENT
DTSTART;VALUE=DATE:20190322
DTEND;VALUE=DATE:20190323
DTSTAMP:20190322T000000Z
UID:0b0a27fb-3212-4932-9dfc-256dcea99c5b
LOCATION:IRPS
SUMMARY;LANGUAGE=en-us:National Ride to School Day
SEQUENCE:0
DESCRIPTION:Weather permitting, there will be bike activities on the oval at lunchtime for participating students and staff. 
END:VEVENT
TRANSP:TRANSPARENT
END:VCALENDAR
