BEGIN:VCALENDAR
VERSION:2.0
PRODID:-//Department Of Education//aa1d3376-b875-4a16-91bb-22cf6d52bcc9
BEGIN:VTIMEZONE
TZID:Australia/Sydney
TZURL:http://tzurl.org/zoneinfo-outlook/Australia/Sydney
X-LIC-LOCATION:Australia/Sydney
BEGIN:STANDARD
TZOFFSETFROM:+1100
TZOFFSETTO:+1000
TZNAME:AEST
DTSTART:19700405T030000
RRULE:FREQ=YEARLY;BYMONTH=4;BYDAY=1SU
END:STANDARD
BEGIN:DAYLIGHT
TZOFFSETFROM:+1000
TZOFFSETTO:+1100
TZNAME:AEDT
DTSTART:19701004T020000
RRULE:FREQ=YEARLY;BYMONTH=10;BYDAY=1SU
END:DAYLIGHT
END:VTIMEZONE
CALSCALE:GREGORIAN
X-WR-TIMEZONE:Australia/Sydney
BEGIN:VEVENT
DTSTART;VALUE=DATE:20190313
DTEND;VALUE=DATE:20190316
DTSTAMP:20190313T000000Z
UID:9b6e5bd8-3e42-4424-979c-2ad70b9db317
LOCATION:Berry Sport & Recreation Camp
SUMMARY;LANGUAGE=en-us:Year 5 Camp
SEQUENCE:0
DESCRIPTION:2019 Year 5 Excursion to Berry Sport & Recreation Camp
END:VEVENT
TRANSP:TRANSPARENT
END:VCALENDAR
