BEGIN:VCALENDAR
VERSION:2.0
PRODID:-//Department Of Education//bb7851d0-78ef-4b1c-b69e-dea130d91b78
BEGIN:VTIMEZONE
TZID:Australia/Sydney
TZURL:http://tzurl.org/zoneinfo-outlook/Australia/Sydney
X-LIC-LOCATION:Australia/Sydney
BEGIN:STANDARD
TZOFFSETFROM:+1100
TZOFFSETTO:+1000
TZNAME:AEST
DTSTART:19700405T030000
RRULE:FREQ=YEARLY;BYMONTH=4;BYDAY=1SU
END:STANDARD
BEGIN:DAYLIGHT
TZOFFSETFROM:+1000
TZOFFSETTO:+1100
TZNAME:AEDT
DTSTART:19701004T020000
RRULE:FREQ=YEARLY;BYMONTH=10;BYDAY=1SU
END:DAYLIGHT
END:VTIMEZONE
CALSCALE:GREGORIAN
X-WR-TIMEZONE:Australia/Sydney
BEGIN:VEVENT
DTSTART;VALUE=DATE:20190325
DTEND;VALUE=DATE:20190327
DTSTAMP:20190325T000000Z
UID:fb5853bf-862e-481d-b41f-4db8859f25e9
LOCATION:Canberra
SUMMARY;LANGUAGE=en-us:Year 6 Canberra Excursion
SEQUENCE:0
DESCRIPTION:Year 6 Canberra excursion 
END:VEVENT
TRANSP:TRANSPARENT
END:VCALENDAR
