BEGIN:VCALENDAR
VERSION:2.0
PRODID:-//Department Of Education//eb94ade2-8d5b-4e19-8b13-d0769edcba78
BEGIN:VTIMEZONE
TZID:Australia/Sydney
TZURL:http://tzurl.org/zoneinfo-outlook/Australia/Sydney
X-LIC-LOCATION:Australia/Sydney
BEGIN:STANDARD
TZOFFSETFROM:+1100
TZOFFSETTO:+1000
TZNAME:AEST
DTSTART:19700405T030000
RRULE:FREQ=YEARLY;BYMONTH=4;BYDAY=1SU
END:STANDARD
BEGIN:DAYLIGHT
TZOFFSETFROM:+1000
TZOFFSETTO:+1100
TZNAME:AEDT
DTSTART:19701004T020000
RRULE:FREQ=YEARLY;BYMONTH=10;BYDAY=1SU
END:DAYLIGHT
END:VTIMEZONE
CALSCALE:GREGORIAN
X-WR-TIMEZONE:Australia/Sydney
BEGIN:VEVENT
DTSTART;VALUE=DATE:20190805
DTEND;VALUE=DATE:20190810
DTSTAMP:20190805T000000Z
UID:8e49bdcb-012b-4551-9cfa-40260dfb8364
LOCATION:Illaroo Road Public School
SUMMARY;LANGUAGE=en-us:Education Week
SEQUENCE:0
DESCRIPTION:Education Week - 'Every student, every voice'
END:VEVENT
TRANSP:TRANSPARENT
END:VCALENDAR
