BEGIN:VCALENDAR
VERSION:2.0
PRODID:-//Department Of Education//0a420a96-44d8-4bd4-b4f7-ced8740ec443
BEGIN:VTIMEZONE
TZID:Australia/Sydney
TZURL:http://tzurl.org/zoneinfo-outlook/Australia/Sydney
X-LIC-LOCATION:Australia/Sydney
BEGIN:STANDARD
TZOFFSETFROM:+1100
TZOFFSETTO:+1000
TZNAME:AEST
DTSTART:19700405T030000
RRULE:FREQ=YEARLY;BYMONTH=4;BYDAY=1SU
END:STANDARD
BEGIN:DAYLIGHT
TZOFFSETFROM:+1000
TZOFFSETTO:+1100
TZNAME:AEDT
DTSTART:19701004T020000
RRULE:FREQ=YEARLY;BYMONTH=10;BYDAY=1SU
END:DAYLIGHT
END:VTIMEZONE
CALSCALE:GREGORIAN
X-WR-TIMEZONE:Australia/Sydney
BEGIN:VEVENT
DTSTART;VALUE=DATE:20190923
DTEND;VALUE=DATE:20190924
DTSTAMP:20190923T000000Z
UID:906fca3a-3b56-4d5b-b898-2b000516d2f2
LOCATION:Shoalhaven Zoo
SUMMARY;LANGUAGE=en-us:Shoalhaven Zoo
SEQUENCE:0
DESCRIPTION:Kindergarten excursion to Shoalhaven Zoo 
END:VEVENT
TRANSP:TRANSPARENT
END:VCALENDAR
