BEGIN:VCALENDAR
VERSION:2.0
PRODID:-//Department Of Education//9386af07-4462-4c18-8ca9-6445fb0fb50e
BEGIN:VTIMEZONE
TZID:Australia/Sydney
TZURL:http://tzurl.org/zoneinfo-outlook/Australia/Sydney
X-LIC-LOCATION:Australia/Sydney
BEGIN:STANDARD
TZOFFSETFROM:+1100
TZOFFSETTO:+1000
TZNAME:AEST
DTSTART:19700405T030000
RRULE:FREQ=YEARLY;BYMONTH=4;BYDAY=1SU
END:STANDARD
BEGIN:DAYLIGHT
TZOFFSETFROM:+1000
TZOFFSETTO:+1100
TZNAME:AEDT
DTSTART:19701004T020000
RRULE:FREQ=YEARLY;BYMONTH=10;BYDAY=1SU
END:DAYLIGHT
END:VTIMEZONE
CALSCALE:GREGORIAN
X-WR-TIMEZONE:Australia/Sydney
BEGIN:VEVENT
DTSTART;VALUE=DATE:20190912
DTEND;VALUE=DATE:20190913
DTSTAMP:20190912T000000Z
UID:60884f4b-5b3c-412a-8de3-ceec2f0cc73e
LOCATION:Shoalhaven Entertainment Centre
SUMMARY;LANGUAGE=en-us:The Amazing Race
SEQUENCE:0
DESCRIPTION:An Illaroo Road Public School whole school production held at the Shoalhaven Entertainment Centre
END:VEVENT
TRANSP:TRANSPARENT
END:VCALENDAR
